BEGIN:VCALENDAR
VERSION:2.0
PRODID:-//Street Artem - ECPv6.15.20//NONSGML v1.0//EN
CALSCALE:GREGORIAN
METHOD:PUBLISH
X-WR-CALNAME:Street Artem
X-ORIGINAL-URL:https://streetartem.com
X-WR-CALDESC:Events for Street Artem
REFRESH-INTERVAL;VALUE=DURATION:PT1H
X-Robots-Tag:noindex
X-PUBLISHED-TTL:PT1H
BEGIN:VTIMEZONE
TZID:America/New_York
BEGIN:DAYLIGHT
TZOFFSETFROM:-0500
TZOFFSETTO:-0400
TZNAME:EDT
DTSTART:20250309T070000
END:DAYLIGHT
BEGIN:STANDARD
TZOFFSETFROM:-0400
TZOFFSETTO:-0500
TZNAME:EST
DTSTART:20251102T060000
END:STANDARD
BEGIN:DAYLIGHT
TZOFFSETFROM:-0500
TZOFFSETTO:-0400
TZNAME:EDT
DTSTART:20260308T070000
END:DAYLIGHT
BEGIN:STANDARD
TZOFFSETFROM:-0400
TZOFFSETTO:-0500
TZNAME:EST
DTSTART:20261101T060000
END:STANDARD
BEGIN:DAYLIGHT
TZOFFSETFROM:-0500
TZOFFSETTO:-0400
TZNAME:EDT
DTSTART:20270314T070000
END:DAYLIGHT
BEGIN:STANDARD
TZOFFSETFROM:-0400
TZOFFSETTO:-0500
TZNAME:EST
DTSTART:20271107T060000
END:STANDARD
BEGIN:DAYLIGHT
TZOFFSETFROM:-0500
TZOFFSETTO:-0400
TZNAME:EDT
DTSTART:20280312T070000
END:DAYLIGHT
BEGIN:STANDARD
TZOFFSETFROM:-0400
TZOFFSETTO:-0500
TZNAME:EST
DTSTART:20281105T060000
END:STANDARD
END:VTIMEZONE
BEGIN:VEVENT
DTSTART;TZID=America/New_York:20260207T100000
DTEND;TZID=America/New_York:20270208T190000
DTSTAMP:20260424T093835
CREATED:20260105T214959Z
LAST-MODIFIED:20260105T214959Z
UID:26014-1770458400-1802113200@streetartem.com
SUMMARY:ArtFest Fort Myers
DESCRIPTION:Discover the work of over 200 artists from around the country and worldwide: paintings\, sculptures\, glasswork\, ceramics\, and more. From originals to limited reproductions\, there’s something for the serious art lover or a casual collector to enjoy. \nIndulge in delicious culinary treats and relax with music and family-friendly entertainment. \nCome yourself or bring your family and experience an unforgettable weekend. \nSAVE THE DATE:\nOpening Night\, Friday\, February 6\, 2026\, 6 to 9 pm\nSaturday\, February 7. 2026\, 10 am to 5 pm\nSunday\, February 8\, 2026\, 10 am to 4 pm
URL:https://streetartem.com/event/artfest-fort-myers/
LOCATION:Water Front Fort Myers\, 1375 Monroe St\, Fort Myers\, FL\, 33901\, United States
CATEGORIES:Art Festival,Street Art Festival
ATTACH;FMTTYPE=image/png:https://streetartem.com/wp-content/uploads/2024/12/ArtFest-fortmyers.png
GEO:26.644843;-81.871555
X-APPLE-STRUCTURED-LOCATION;VALUE=URI;X-ADDRESS=Water Front Fort Myers 1375 Monroe St Fort Myers FL 33901 United States;X-APPLE-RADIUS=500;X-TITLE=1375 Monroe St:geo:-81.871555,26.644843
END:VEVENT
END:VCALENDAR