BEGIN:VCALENDAR
VERSION:2.0
PRODID:-//Street Artem - ECPv6.15.20//NONSGML v1.0//EN
CALSCALE:GREGORIAN
METHOD:PUBLISH
X-WR-CALNAME:Street Artem
X-ORIGINAL-URL:https://streetartem.com
X-WR-CALDESC:Events for Street Artem
REFRESH-INTERVAL;VALUE=DURATION:PT1H
X-Robots-Tag:noindex
X-PUBLISHED-TTL:PT1H
BEGIN:VTIMEZONE
TZID:America/New_York
BEGIN:DAYLIGHT
TZOFFSETFROM:-0500
TZOFFSETTO:-0400
TZNAME:EDT
DTSTART:20240310T070000
END:DAYLIGHT
BEGIN:STANDARD
TZOFFSETFROM:-0400
TZOFFSETTO:-0500
TZNAME:EST
DTSTART:20241103T060000
END:STANDARD
BEGIN:DAYLIGHT
TZOFFSETFROM:-0500
TZOFFSETTO:-0400
TZNAME:EDT
DTSTART:20250309T070000
END:DAYLIGHT
BEGIN:STANDARD
TZOFFSETFROM:-0400
TZOFFSETTO:-0500
TZNAME:EST
DTSTART:20251102T060000
END:STANDARD
BEGIN:DAYLIGHT
TZOFFSETFROM:-0500
TZOFFSETTO:-0400
TZNAME:EDT
DTSTART:20260308T070000
END:DAYLIGHT
BEGIN:STANDARD
TZOFFSETFROM:-0400
TZOFFSETTO:-0500
TZNAME:EST
DTSTART:20261101T060000
END:STANDARD
END:VTIMEZONE
BEGIN:VEVENT
DTSTART;VALUE=DATE:20250307
DTEND;VALUE=DATE:20250310
DTSTAMP:20260424T141052
CREATED:20250123T194736Z
LAST-MODIFIED:20250712T012927Z
UID:17518-1741305600-1741564799@streetartem.com
SUMMARY:Beaumont Mural Festival
DESCRIPTION:Beaumont Mural Festival\nMarch 7- March 9\, 2025\nRevitalizing Art in Beaumont!\nBeaumont Mural Festival is taking place March 7 – March 9\, 2025. The Mural Festival will be a weekend-long\, live art extravaganza with muralists from across the United States and the world. The artists will be painting inside and outside the Beaumont Civic Center and the area to expand the public art scene. \nArtist J Muzacz\, who worked on the murals for Pour09 Rooftop Bar and Grill\, will be spearheading this endeavor with other artists to bring some of their flair and style. Throughout the these days\, the community will be able to see the progress take place in real-time and will be able to visit with the artists. \nMin Dai\, the owner of Obana Restaurant Group\, will be hosting events to coincide with the event. Check back as we get closer for more details!
URL:https://streetartem.com/event/beaumont-texas-mural-festival/
LOCATION:Beaumont Mural Festival\, 701 Main Street\, Beaumont\, TX\, 77701\, United States
CATEGORIES:Street Art Festival
ATTACH;FMTTYPE=image/jpeg:https://streetartem.com/wp-content/uploads/2025/01/beaumont-mural-fest.jpg
GEO:30.0824759;-94.0951016
X-APPLE-STRUCTURED-LOCATION;VALUE=URI;X-ADDRESS=Beaumont Mural Festival 701 Main Street Beaumont TX 77701 United States;X-APPLE-RADIUS=500;X-TITLE=701 Main Street:geo:-94.0951016,30.0824759
END:VEVENT
END:VCALENDAR