BEGIN:VCALENDAR
VERSION:2.0
PRODID:-//Street Artem - ECPv6.15.20//NONSGML v1.0//EN
CALSCALE:GREGORIAN
METHOD:PUBLISH
X-WR-CALNAME:Street Artem
X-ORIGINAL-URL:https://streetartem.com
X-WR-CALDESC:Events for Street Artem
REFRESH-INTERVAL;VALUE=DURATION:PT1H
X-Robots-Tag:noindex
X-PUBLISHED-TTL:PT1H
BEGIN:VTIMEZONE
TZID:America/New_York
BEGIN:DAYLIGHT
TZOFFSETFROM:-0500
TZOFFSETTO:-0400
TZNAME:EDT
DTSTART:20240310T070000
END:DAYLIGHT
BEGIN:STANDARD
TZOFFSETFROM:-0400
TZOFFSETTO:-0500
TZNAME:EST
DTSTART:20241103T060000
END:STANDARD
BEGIN:DAYLIGHT
TZOFFSETFROM:-0500
TZOFFSETTO:-0400
TZNAME:EDT
DTSTART:20250309T070000
END:DAYLIGHT
BEGIN:STANDARD
TZOFFSETFROM:-0400
TZOFFSETTO:-0500
TZNAME:EST
DTSTART:20251102T060000
END:STANDARD
BEGIN:DAYLIGHT
TZOFFSETFROM:-0500
TZOFFSETTO:-0400
TZNAME:EDT
DTSTART:20260308T070000
END:DAYLIGHT
BEGIN:STANDARD
TZOFFSETFROM:-0400
TZOFFSETTO:-0500
TZNAME:EST
DTSTART:20261101T060000
END:STANDARD
END:VTIMEZONE
BEGIN:VEVENT
DTSTART;TZID=America/New_York:20250831T080000
DTEND;TZID=America/New_York:20250831T150000
DTSTAMP:20260424T182745
CREATED:20250725T010919Z
LAST-MODIFIED:20250725T010919Z
UID:24056-1756627200-1756652400@streetartem.com
SUMMARY:BEXLEY MURAL FESTIVAL 2025: THE REMIX
DESCRIPTION:This celebration mash-up will combine the magic of Mural Fest with our signature citywide summer bash featuring live music\, tasty eats\, adult beverages\, and plenty of family-friendly activities!
URL:https://streetartem.com/event/bexley-mural-festival-2025-the-remix/
LOCATION:Main Street Bexley Ohio\, 2242 E Main St\, Bexley\, OH\, 43209\, United States
ATTACH;FMTTYPE=image/png:https://streetartem.com/wp-content/uploads/2025/07/bexley-muralfest-icon.png
GEO:39.9580718;-82.9394544
X-APPLE-STRUCTURED-LOCATION;VALUE=URI;X-ADDRESS=Main Street Bexley Ohio 2242 E Main St Bexley OH 43209 United States;X-APPLE-RADIUS=500;X-TITLE=2242 E Main St:geo:-82.9394544,39.9580718
END:VEVENT
END:VCALENDAR