BEGIN:VCALENDAR
VERSION:2.0
PRODID:-//Street Artem - ECPv6.15.20//NONSGML v1.0//EN
CALSCALE:GREGORIAN
METHOD:PUBLISH
X-WR-CALNAME:Street Artem
X-ORIGINAL-URL:https://streetartem.com
X-WR-CALDESC:Events for Street Artem
REFRESH-INTERVAL;VALUE=DURATION:PT1H
X-Robots-Tag:noindex
X-PUBLISHED-TTL:PT1H
BEGIN:VTIMEZONE
TZID:America/New_York
BEGIN:DAYLIGHT
TZOFFSETFROM:-0500
TZOFFSETTO:-0400
TZNAME:EDT
DTSTART:20250309T070000
END:DAYLIGHT
BEGIN:STANDARD
TZOFFSETFROM:-0400
TZOFFSETTO:-0500
TZNAME:EST
DTSTART:20251102T060000
END:STANDARD
BEGIN:DAYLIGHT
TZOFFSETFROM:-0500
TZOFFSETTO:-0400
TZNAME:EDT
DTSTART:20260308T070000
END:DAYLIGHT
BEGIN:STANDARD
TZOFFSETFROM:-0400
TZOFFSETTO:-0500
TZNAME:EST
DTSTART:20261101T060000
END:STANDARD
BEGIN:DAYLIGHT
TZOFFSETFROM:-0500
TZOFFSETTO:-0400
TZNAME:EDT
DTSTART:20270314T070000
END:DAYLIGHT
BEGIN:STANDARD
TZOFFSETFROM:-0400
TZOFFSETTO:-0500
TZNAME:EST
DTSTART:20271107T060000
END:STANDARD
END:VTIMEZONE
BEGIN:VEVENT
DTSTART;TZID=America/New_York:20260228T100000
DTEND;TZID=America/New_York:20260301T170000
DTSTAMP:20260424T124145
CREATED:20260105T211440Z
LAST-MODIFIED:20260105T211440Z
UID:25995-1772272800-1772384400@streetartem.com
SUMMARY:BFA Art Walls Mural Fest
DESCRIPTION:Twelve local nonprofits will be paired with one of 12 established and emerging artists to create 8-foot-by-8-foot murals inspired by each organization’s mission.
URL:https://streetartem.com/event/bfa-art-walls-mural-fest/
LOCATION:History Fort Lauderdale\, 231 SW 2nd Ave\, Fort Lauderdale\, FL\, 33301\, United States
CATEGORIES:Art Festival,Street Art Festival
ATTACH;FMTTYPE=image/jpeg:https://streetartem.com/wp-content/uploads/2026/01/BFA-MuralFest-logo-5.jpg
GEO:26.119157;-80.1459217
X-APPLE-STRUCTURED-LOCATION;VALUE=URI;X-ADDRESS=History Fort Lauderdale 231 SW 2nd Ave Fort Lauderdale FL 33301 United States;X-APPLE-RADIUS=500;X-TITLE=231 SW 2nd Ave:geo:-80.1459217,26.119157
END:VEVENT
END:VCALENDAR