BEGIN:VCALENDAR
VERSION:2.0
PRODID:-//Street Artem - ECPv6.15.20//NONSGML v1.0//EN
CALSCALE:GREGORIAN
METHOD:PUBLISH
X-WR-CALNAME:Street Artem
X-ORIGINAL-URL:https://streetartem.com
X-WR-CALDESC:Events for Street Artem
REFRESH-INTERVAL;VALUE=DURATION:PT1H
X-Robots-Tag:noindex
X-PUBLISHED-TTL:PT1H
BEGIN:VTIMEZONE
TZID:America/New_York
BEGIN:DAYLIGHT
TZOFFSETFROM:-0500
TZOFFSETTO:-0400
TZNAME:EDT
DTSTART:20240310T070000
END:DAYLIGHT
BEGIN:STANDARD
TZOFFSETFROM:-0400
TZOFFSETTO:-0500
TZNAME:EST
DTSTART:20241103T060000
END:STANDARD
BEGIN:DAYLIGHT
TZOFFSETFROM:-0500
TZOFFSETTO:-0400
TZNAME:EDT
DTSTART:20250309T070000
END:DAYLIGHT
BEGIN:STANDARD
TZOFFSETFROM:-0400
TZOFFSETTO:-0500
TZNAME:EST
DTSTART:20251102T060000
END:STANDARD
BEGIN:DAYLIGHT
TZOFFSETFROM:-0500
TZOFFSETTO:-0400
TZNAME:EDT
DTSTART:20260308T070000
END:DAYLIGHT
BEGIN:STANDARD
TZOFFSETFROM:-0400
TZOFFSETTO:-0500
TZNAME:EST
DTSTART:20261101T060000
END:STANDARD
END:VTIMEZONE
BEGIN:VEVENT
DTSTART;VALUE=DATE:20250903
DTEND;VALUE=DATE:20250916
DTSTAMP:20260424T121831
CREATED:20250123T221119Z
LAST-MODIFIED:20250712T012912Z
UID:17549-1756857600-1757980799@streetartem.com
SUMMARY:BLKOUT Walls Festival
DESCRIPTION:Pushing creativity and inspiration through street art\nSeptember 3-15\, 2025 \nWelcome to the BLKOUT Walls Festival\, an annual family-friendly event celebrating art and community. BLKOUT Walls will bring together 20 amazing artists to create beautiful and captivating murals on private and commercial structures throughout the city of Detroit. Experience the power of art as it breathes life into the urban landscape during this immersive 10 day celebration.
URL:https://streetartem.com/event/blkout-walls-festival/
LOCATION:Arden Park\, Detroit\, MI\, 48202\, United States
CATEGORIES:Street Art Festival
ATTACH;FMTTYPE=image/png:https://streetartem.com/wp-content/uploads/2025/01/blkout-walls-logo.png
END:VEVENT
END:VCALENDAR