BEGIN:VCALENDAR
VERSION:2.0
PRODID:-//Street Artem - ECPv6.15.20//NONSGML v1.0//EN
CALSCALE:GREGORIAN
METHOD:PUBLISH
X-WR-CALNAME:Street Artem
X-ORIGINAL-URL:https://streetartem.com
X-WR-CALDESC:Events for Street Artem
REFRESH-INTERVAL;VALUE=DURATION:PT1H
X-Robots-Tag:noindex
X-PUBLISHED-TTL:PT1H
BEGIN:VTIMEZONE
TZID:America/New_York
BEGIN:DAYLIGHT
TZOFFSETFROM:-0500
TZOFFSETTO:-0400
TZNAME:EDT
DTSTART:20240310T070000
END:DAYLIGHT
BEGIN:STANDARD
TZOFFSETFROM:-0400
TZOFFSETTO:-0500
TZNAME:EST
DTSTART:20241103T060000
END:STANDARD
BEGIN:DAYLIGHT
TZOFFSETFROM:-0500
TZOFFSETTO:-0400
TZNAME:EDT
DTSTART:20250309T070000
END:DAYLIGHT
BEGIN:STANDARD
TZOFFSETFROM:-0400
TZOFFSETTO:-0500
TZNAME:EST
DTSTART:20251102T060000
END:STANDARD
BEGIN:DAYLIGHT
TZOFFSETFROM:-0500
TZOFFSETTO:-0400
TZNAME:EDT
DTSTART:20260308T070000
END:DAYLIGHT
BEGIN:STANDARD
TZOFFSETFROM:-0400
TZOFFSETTO:-0500
TZNAME:EST
DTSTART:20261101T060000
END:STANDARD
END:VTIMEZONE
BEGIN:VEVENT
DTSTART;VALUE=DATE:20250915
DTEND;VALUE=DATE:20250921
DTSTAMP:20260424T153754
CREATED:20241230T002824Z
LAST-MODIFIED:20250712T012910Z
UID:17354-1757894400-1758412799@streetartem.com
SUMMARY:Carson City's Murals & Music Festival
DESCRIPTION:The festival will bring local\, national\, and international artists to Carson City to paint murals throughout the city. In addition\, there will be live music in the streets and a free closing concert at the Brewery Arts Center. Other community activities will include artist lectures and talks\, film\, children’s art activities\, and interactive mural painting.
URL:https://streetartem.com/event/carson-city-murals-music-festival/
LOCATION:Brewery Arts Center\, 449 W King Street\, Carson City\, NV\, 89703\, United States
CATEGORIES:Street Art Festival
ATTACH;FMTTYPE=image/png:https://streetartem.com/wp-content/uploads/2024/12/carson-city-mural-fest.png
GEO:39.1634312;-119.7699797
X-APPLE-STRUCTURED-LOCATION;VALUE=URI;X-ADDRESS=Brewery Arts Center 449 W King Street Carson City NV 89703 United States;X-APPLE-RADIUS=500;X-TITLE=449 W King Street:geo:-119.7699797,39.1634312
END:VEVENT
END:VCALENDAR