BEGIN:VCALENDAR
VERSION:2.0
PRODID:-//Street Artem - ECPv6.15.20//NONSGML v1.0//EN
CALSCALE:GREGORIAN
METHOD:PUBLISH
X-WR-CALNAME:Street Artem
X-ORIGINAL-URL:https://streetartem.com
X-WR-CALDESC:Events for Street Artem
REFRESH-INTERVAL;VALUE=DURATION:PT1H
X-Robots-Tag:noindex
X-PUBLISHED-TTL:PT1H
BEGIN:VTIMEZONE
TZID:America/New_York
BEGIN:DAYLIGHT
TZOFFSETFROM:-0500
TZOFFSETTO:-0400
TZNAME:EDT
DTSTART:20240310T070000
END:DAYLIGHT
BEGIN:STANDARD
TZOFFSETFROM:-0400
TZOFFSETTO:-0500
TZNAME:EST
DTSTART:20241103T060000
END:STANDARD
BEGIN:DAYLIGHT
TZOFFSETFROM:-0500
TZOFFSETTO:-0400
TZNAME:EDT
DTSTART:20250309T070000
END:DAYLIGHT
BEGIN:STANDARD
TZOFFSETFROM:-0400
TZOFFSETTO:-0500
TZNAME:EST
DTSTART:20251102T060000
END:STANDARD
BEGIN:DAYLIGHT
TZOFFSETFROM:-0500
TZOFFSETTO:-0400
TZNAME:EDT
DTSTART:20260308T070000
END:DAYLIGHT
BEGIN:STANDARD
TZOFFSETFROM:-0400
TZOFFSETTO:-0500
TZNAME:EST
DTSTART:20261101T060000
END:STANDARD
END:VTIMEZONE
BEGIN:VEVENT
DTSTART;VALUE=DATE:20250726
DTEND;VALUE=DATE:20250728
DTSTAMP:20260424T153656
CREATED:20250124T010038Z
LAST-MODIFIED:20250712T012914Z
UID:17561-1753488000-1753660799@streetartem.com
SUMMARY:Delray Walls Mural Fest
DESCRIPTION:Delray Walls Mural Fest – July 26-27\, 2025 \nDelray Walls Mural Fest is a two-day street art and music festival in Downtown Delray Beach. The event is a collaboration with Galera Collective & Old School Square in a two-day showcase of some of South Florida’s best street artists from Palm Beach County to Miami.  We’re kicking off the festival on Friday night with a live performance from local reggae favorites Spred the Dub. Artists will start that night painting on large wooden panels placed throughout the park and continue painting all day Saturday. The headliner for Saturday is Latin Reggae band Bachaco. Murals will remain in the Park at Old School Square over the weekend and then be placed in different locations throughout Delray Beach. \nFeatured Artists: \n– Raw Sol (@raw.sol) \n– Seip Intuit (@seip.intuit) \n– Nico (@nicosuavalicious) \n– Arive &Space Of Mind Students (@maxart_miami) \n– CHNK (@chnkfondue) \n– PHD (@phdgraphitti) \n– Sarah Huang (@sarahehuang) \n– Dome (@reallygooddome) \n– Code (@_code_e) \n– Ohlo (@locassoh) \n– Craig Mcinnis (@craigmcinnisstudios) \n– Renata Rodrigues (@renatarodriguesart)
URL:https://streetartem.com/event/delray-walls-mural-fest/
LOCATION:Downtown Delray\, 51 N Swinton Ave\, Delray Beach\, FL\, 33444\, United States
CATEGORIES:Street Art Festival
ATTACH;FMTTYPE=image/jpeg:https://streetartem.com/wp-content/uploads/2025/01/delray-walls-mural-festival.jpg
GEO:26.4632079;-80.0723413
X-APPLE-STRUCTURED-LOCATION;VALUE=URI;X-ADDRESS=Downtown Delray 51 N Swinton Ave Delray Beach FL 33444 United States;X-APPLE-RADIUS=500;X-TITLE=51 N Swinton Ave:geo:-80.0723413,26.4632079
END:VEVENT
END:VCALENDAR