BEGIN:VCALENDAR
VERSION:2.0
PRODID:-//Street Artem - ECPv6.15.20//NONSGML v1.0//EN
CALSCALE:GREGORIAN
METHOD:PUBLISH
X-WR-CALNAME:Street Artem
X-ORIGINAL-URL:https://streetartem.com
X-WR-CALDESC:Events for Street Artem
REFRESH-INTERVAL;VALUE=DURATION:PT1H
X-Robots-Tag:noindex
X-PUBLISHED-TTL:PT1H
BEGIN:VTIMEZONE
TZID:America/New_York
BEGIN:DAYLIGHT
TZOFFSETFROM:-0500
TZOFFSETTO:-0400
TZNAME:EDT
DTSTART:20240310T070000
END:DAYLIGHT
BEGIN:STANDARD
TZOFFSETFROM:-0400
TZOFFSETTO:-0500
TZNAME:EST
DTSTART:20241103T060000
END:STANDARD
BEGIN:DAYLIGHT
TZOFFSETFROM:-0500
TZOFFSETTO:-0400
TZNAME:EDT
DTSTART:20250309T070000
END:DAYLIGHT
BEGIN:STANDARD
TZOFFSETFROM:-0400
TZOFFSETTO:-0500
TZNAME:EST
DTSTART:20251102T060000
END:STANDARD
BEGIN:DAYLIGHT
TZOFFSETFROM:-0500
TZOFFSETTO:-0400
TZNAME:EDT
DTSTART:20260308T070000
END:DAYLIGHT
BEGIN:STANDARD
TZOFFSETFROM:-0400
TZOFFSETTO:-0500
TZNAME:EST
DTSTART:20261101T060000
END:STANDARD
END:VTIMEZONE
BEGIN:VEVENT
DTSTART;VALUE=DATE:20250607
DTEND;VALUE=DATE:20250609
DTSTAMP:20260424T141116
CREATED:20250124T011132Z
LAST-MODIFIED:20250712T012916Z
UID:17567-1749254400-1749427199@streetartem.com
SUMMARY:Denver Chalk Art Festival
DESCRIPTION:The Denver Chalk Art Festival\, June 7-8\, 2025 \nAn award-winning event that will transform Denver’s historical museum district into a colorful street museum. Over the course of two days\, 200 professional\, amateur\, and student artists captivate audiences as they take to the pavement armed with vivid soft pastels and spend hours drawing on their hands and knees. Thousands of festival attendees enjoy food and live music as they watch beautiful chalk pieces come to life. The event is produced by Denver Chalk Art and CherryArts\, a nonprofit organization dedicated to promoting arts awareness and education in Denver.
URL:https://streetartem.com/event/denver-chalk-art-festival/
LOCATION:Denver Golden Triangle Neighborhood\, 123 W. 12th Avenue\, Denver\, CO\, 80204\, United States
CATEGORIES:Chalk Art Festival
ATTACH;FMTTYPE=image/jpeg:https://streetartem.com/wp-content/uploads/2025/01/denver-chalkart-festival.jpeg
GEO:39.7355378;-104.9899082
X-APPLE-STRUCTURED-LOCATION;VALUE=URI;X-ADDRESS=Denver Golden Triangle Neighborhood 123 W. 12th Avenue Denver CO 80204 United States;X-APPLE-RADIUS=500;X-TITLE=123 W. 12th Avenue:geo:-104.9899082,39.7355378
END:VEVENT
END:VCALENDAR