BEGIN:VCALENDAR
VERSION:2.0
PRODID:-//Street Artem - ECPv6.15.20//NONSGML v1.0//EN
CALSCALE:GREGORIAN
METHOD:PUBLISH
X-WR-CALNAME:Street Artem
X-ORIGINAL-URL:https://streetartem.com
X-WR-CALDESC:Events for Street Artem
REFRESH-INTERVAL;VALUE=DURATION:PT1H
X-Robots-Tag:noindex
X-PUBLISHED-TTL:PT1H
BEGIN:VTIMEZONE
TZID:America/New_York
BEGIN:DAYLIGHT
TZOFFSETFROM:-0500
TZOFFSETTO:-0400
TZNAME:EDT
DTSTART:20240310T070000
END:DAYLIGHT
BEGIN:STANDARD
TZOFFSETFROM:-0400
TZOFFSETTO:-0500
TZNAME:EST
DTSTART:20241103T060000
END:STANDARD
BEGIN:DAYLIGHT
TZOFFSETFROM:-0500
TZOFFSETTO:-0400
TZNAME:EDT
DTSTART:20250309T070000
END:DAYLIGHT
BEGIN:STANDARD
TZOFFSETFROM:-0400
TZOFFSETTO:-0500
TZNAME:EST
DTSTART:20251102T060000
END:STANDARD
BEGIN:DAYLIGHT
TZOFFSETFROM:-0500
TZOFFSETTO:-0400
TZNAME:EDT
DTSTART:20260308T070000
END:DAYLIGHT
BEGIN:STANDARD
TZOFFSETFROM:-0400
TZOFFSETTO:-0500
TZNAME:EST
DTSTART:20261101T060000
END:STANDARD
END:VTIMEZONE
BEGIN:VEVENT
DTSTART;TZID=America/New_York:20250516T080000
DTEND;TZID=America/New_York:20250517T170000
DTSTAMP:20260424T153720
CREATED:20241229T030054Z
LAST-MODIFIED:20250712T012921Z
UID:17318-1747382400-1747501200@streetartem.com
SUMMARY:Digital Graffiti at Alys Beach festival
DESCRIPTION:Alys Beach\, located along the northwest Florida coastline\, provides the environment for the Digital Graffiti festival\, the open-air\, organic gallery for the projections of these original artworks. Staged against the elegant whitewalls of Alys Beach\, Digital Graffiti provides a large-scale blank canvas for artists to explore the visual intersection of art and architecture. The engagement between the art\, architecture\, and audience is transformative\, creating an immersive and interactive art projection experience that is entirely unique to the Digital Graffiti festival\, named as one of the top “24 Unconventional Art Destinations Around the World” by National Geographic.
URL:https://streetartem.com/event/digital-graffiti-at-alys-beach-festival/
LOCATION:Alys Beach\, Alys Beach\, FL\, 32413\, United States
CATEGORIES:Street Art Festival
ATTACH;FMTTYPE=image/jpeg:https://streetartem.com/wp-content/uploads/2024/12/dig-graffiti-fest-alys-beach.jpg
END:VEVENT
END:VCALENDAR