BEGIN:VCALENDAR
VERSION:2.0
PRODID:-//Street Artem - ECPv6.15.20//NONSGML v1.0//EN
CALSCALE:GREGORIAN
METHOD:PUBLISH
X-WR-CALNAME:Street Artem
X-ORIGINAL-URL:https://streetartem.com
X-WR-CALDESC:Events for Street Artem
REFRESH-INTERVAL;VALUE=DURATION:PT1H
X-Robots-Tag:noindex
X-PUBLISHED-TTL:PT1H
BEGIN:VTIMEZONE
TZID:America/New_York
BEGIN:DAYLIGHT
TZOFFSETFROM:-0500
TZOFFSETTO:-0400
TZNAME:EDT
DTSTART:20240310T070000
END:DAYLIGHT
BEGIN:STANDARD
TZOFFSETFROM:-0400
TZOFFSETTO:-0500
TZNAME:EST
DTSTART:20241103T060000
END:STANDARD
BEGIN:DAYLIGHT
TZOFFSETFROM:-0500
TZOFFSETTO:-0400
TZNAME:EDT
DTSTART:20250309T070000
END:DAYLIGHT
BEGIN:STANDARD
TZOFFSETFROM:-0400
TZOFFSETTO:-0500
TZNAME:EST
DTSTART:20251102T060000
END:STANDARD
BEGIN:DAYLIGHT
TZOFFSETFROM:-0500
TZOFFSETTO:-0400
TZNAME:EDT
DTSTART:20260308T070000
END:DAYLIGHT
BEGIN:STANDARD
TZOFFSETFROM:-0400
TZOFFSETTO:-0500
TZNAME:EST
DTSTART:20261101T060000
END:STANDARD
END:VTIMEZONE
BEGIN:VEVENT
DTSTART;VALUE=DATE:20250530
DTEND;VALUE=DATE:20250601
DTSTAMP:20260424T134205
CREATED:20241130T013114Z
LAST-MODIFIED:20250712T012919Z
UID:15796-1748563200-1748735999@streetartem.com
SUMMARY:ILLFEST
DESCRIPTION:ART\, MUSIC\, LOVE Year 7 of ILLfest is set to be an unprecedented display of music and street art. Tag along as we splash some paint on the canvas and add color to your world in ways you’ve never imagined.
URL:https://streetartem.com/event/illfest/
LOCATION:Travis County Expo Center\, 7311 Decker Ln\, Austin\, Texas\, 78724\, United States
CATEGORIES:Street Art Festival
ATTACH;FMTTYPE=image/png:https://streetartem.com/wp-content/uploads/2024/11/illfest-post.png
GEO:30.2957389;-97.6212488
X-APPLE-STRUCTURED-LOCATION;VALUE=URI;X-ADDRESS=Travis County Expo Center 7311 Decker Ln Austin Texas 78724 United States;X-APPLE-RADIUS=500;X-TITLE=7311 Decker Ln:geo:-97.6212488,30.2957389
END:VEVENT
END:VCALENDAR