BEGIN:VCALENDAR
VERSION:2.0
PRODID:-//Street Artem - ECPv6.15.20//NONSGML v1.0//EN
CALSCALE:GREGORIAN
METHOD:PUBLISH
X-WR-CALNAME:Street Artem
X-ORIGINAL-URL:https://streetartem.com
X-WR-CALDESC:Events for Street Artem
REFRESH-INTERVAL;VALUE=DURATION:PT1H
X-Robots-Tag:noindex
X-PUBLISHED-TTL:PT1H
BEGIN:VTIMEZONE
TZID:America/New_York
BEGIN:DAYLIGHT
TZOFFSETFROM:-0500
TZOFFSETTO:-0400
TZNAME:EDT
DTSTART:20250309T070000
END:DAYLIGHT
BEGIN:STANDARD
TZOFFSETFROM:-0400
TZOFFSETTO:-0500
TZNAME:EST
DTSTART:20251102T060000
END:STANDARD
BEGIN:DAYLIGHT
TZOFFSETFROM:-0500
TZOFFSETTO:-0400
TZNAME:EDT
DTSTART:20260308T070000
END:DAYLIGHT
BEGIN:STANDARD
TZOFFSETFROM:-0400
TZOFFSETTO:-0500
TZNAME:EST
DTSTART:20261101T060000
END:STANDARD
BEGIN:DAYLIGHT
TZOFFSETFROM:-0500
TZOFFSETTO:-0400
TZNAME:EDT
DTSTART:20270314T070000
END:DAYLIGHT
BEGIN:STANDARD
TZOFFSETFROM:-0400
TZOFFSETTO:-0500
TZNAME:EST
DTSTART:20271107T060000
END:STANDARD
END:VTIMEZONE
BEGIN:VEVENT
DTSTART;TZID=America/New_York:20260126T100000
DTEND;TZID=America/New_York:20260131T190000
DTSTAMP:20260424T121831
CREATED:20260105T205831Z
LAST-MODIFIED:20260105T205834Z
UID:25988-1769421600-1769886000@streetartem.com
SUMMARY:Jacksonville Mural Festival
DESCRIPTION:The Jacksonville Mural Festival is set to return for its second annual event in the vibrant Murray Hill neighborhood. Scheduled for late January\, the festival will showcase new murals from local artists\, support community engagement\, and feature various activities like artist talks and guided tours. Organizers aim to foster appreciation for artistic expression and invigorate the local cultural landscape\, building on the success of the inaugural event. Artists are encouraged to follow updates on Instagram for participation opportunities.
URL:https://streetartem.com/event/jacksonville-mural-festival-2/
LOCATION:Murray Hill Jacksonville\, 4045 Post St\, Jacksonville\, FL\, 32205\, United States
CATEGORIES:Art Festival,Street Art Festival
ATTACH;FMTTYPE=image/jpeg:https://streetartem.com/wp-content/uploads/2026/01/Jacksonville-Mural-Festiva.jpg
GEO:30.3121709;-81.7188283
X-APPLE-STRUCTURED-LOCATION;VALUE=URI;X-ADDRESS=Murray Hill Jacksonville 4045 Post St Jacksonville FL 32205 United States;X-APPLE-RADIUS=500;X-TITLE=4045 Post St:geo:-81.7188283,30.3121709
END:VEVENT
END:VCALENDAR