BEGIN:VCALENDAR
VERSION:2.0
PRODID:-//Street Artem - ECPv6.15.20//NONSGML v1.0//EN
CALSCALE:GREGORIAN
METHOD:PUBLISH
X-WR-CALNAME:Street Artem
X-ORIGINAL-URL:https://streetartem.com
X-WR-CALDESC:Events for Street Artem
REFRESH-INTERVAL;VALUE=DURATION:PT1H
X-Robots-Tag:noindex
X-PUBLISHED-TTL:PT1H
BEGIN:VTIMEZONE
TZID:America/New_York
BEGIN:DAYLIGHT
TZOFFSETFROM:-0500
TZOFFSETTO:-0400
TZNAME:EDT
DTSTART:20240310T070000
END:DAYLIGHT
BEGIN:STANDARD
TZOFFSETFROM:-0400
TZOFFSETTO:-0500
TZNAME:EST
DTSTART:20241103T060000
END:STANDARD
BEGIN:DAYLIGHT
TZOFFSETFROM:-0500
TZOFFSETTO:-0400
TZNAME:EDT
DTSTART:20250309T070000
END:DAYLIGHT
BEGIN:STANDARD
TZOFFSETFROM:-0400
TZOFFSETTO:-0500
TZNAME:EST
DTSTART:20251102T060000
END:STANDARD
BEGIN:DAYLIGHT
TZOFFSETFROM:-0500
TZOFFSETTO:-0400
TZNAME:EDT
DTSTART:20260308T070000
END:DAYLIGHT
BEGIN:STANDARD
TZOFFSETFROM:-0400
TZOFFSETTO:-0500
TZNAME:EST
DTSTART:20261101T060000
END:STANDARD
END:VTIMEZONE
BEGIN:VEVENT
DTSTART;VALUE=DATE:20250719
DTEND;VALUE=DATE:20250727
DTSTAMP:20260424T153718
CREATED:20241229T233925Z
LAST-MODIFIED:20250712T012915Z
UID:17335-1752883200-1753574399@streetartem.com
SUMMARY:Pleasant Peninsula Mural Festival
DESCRIPTION:Grand Rapids’ first and only national mural festival!  2025 Mural Festival will showcase local\, regional\, and national artists to install over 20 new murals in downtown Grand Rapids. Each mural will feature a different native species on the Michigan Endangered Species List!
URL:https://streetartem.com/event/pleasant-peninsula-mural-festival/
LOCATION:Pleasant Peninsula\, 426 Washington St SE\, Grand Rapids\, MI\, 49503\, United States
CATEGORIES:Street Art Festival
ATTACH;FMTTYPE=image/png:https://streetartem.com/wp-content/uploads/2024/12/pleasantpeninsula.logos-11.png
GEO:42.96091;-85.6581157
X-APPLE-STRUCTURED-LOCATION;VALUE=URI;X-ADDRESS=Pleasant Peninsula 426 Washington St SE Grand Rapids MI 49503 United States;X-APPLE-RADIUS=500;X-TITLE=426 Washington St SE:geo:-85.6581157,42.96091
END:VEVENT
END:VCALENDAR