BEGIN:VCALENDAR
VERSION:2.0
PRODID:-//Street Artem - ECPv6.15.20//NONSGML v1.0//EN
CALSCALE:GREGORIAN
METHOD:PUBLISH
X-WR-CALNAME:Street Artem
X-ORIGINAL-URL:https://streetartem.com
X-WR-CALDESC:Events for Street Artem
REFRESH-INTERVAL;VALUE=DURATION:PT1H
X-Robots-Tag:noindex
X-PUBLISHED-TTL:PT1H
BEGIN:VTIMEZONE
TZID:America/New_York
BEGIN:DAYLIGHT
TZOFFSETFROM:-0500
TZOFFSETTO:-0400
TZNAME:EDT
DTSTART:20240310T070000
END:DAYLIGHT
BEGIN:STANDARD
TZOFFSETFROM:-0400
TZOFFSETTO:-0500
TZNAME:EST
DTSTART:20241103T060000
END:STANDARD
BEGIN:DAYLIGHT
TZOFFSETFROM:-0500
TZOFFSETTO:-0400
TZNAME:EDT
DTSTART:20250309T070000
END:DAYLIGHT
BEGIN:STANDARD
TZOFFSETFROM:-0400
TZOFFSETTO:-0500
TZNAME:EST
DTSTART:20251102T060000
END:STANDARD
BEGIN:DAYLIGHT
TZOFFSETFROM:-0500
TZOFFSETTO:-0400
TZNAME:EDT
DTSTART:20260308T070000
END:DAYLIGHT
BEGIN:STANDARD
TZOFFSETFROM:-0400
TZOFFSETTO:-0500
TZNAME:EST
DTSTART:20261101T060000
END:STANDARD
END:VTIMEZONE
BEGIN:VEVENT
DTSTART;TZID=America/New_York:20250426T080000
DTEND;TZID=America/New_York:20250426T170000
DTSTAMP:20260424T153752
CREATED:20241230T004838Z
LAST-MODIFIED:20250712T012925Z
UID:17367-1745654400-1745686800@streetartem.com
SUMMARY:SCAD Sidewalk Arts Festival in Savannah
DESCRIPTION:44th annual SCAD Sidewalk Arts Festival. During this treasured tradition\, SCAD students\, alumni\, and local high school students transform Savannah’s historic Forsyth Park into a chromatic landscape of chalk compositions for the chance to win coveted prizes.
URL:https://streetartem.com/event/scad-sidewalk-arts-festival-in-savannah/
LOCATION:Forsyth Park\, Forsyth Park\, Savannah\, South Carolina\, 31401\, United States
CATEGORIES:Chalk Art Festival
ATTACH;FMTTYPE=image/jpeg:https://streetartem.com/wp-content/uploads/2024/12/SCAD-Savannah.jpg
GEO:32.0675356;-81.0962384
X-APPLE-STRUCTURED-LOCATION;VALUE=URI;X-ADDRESS=Forsyth Park Forsyth Park Savannah South Carolina 31401 United States;X-APPLE-RADIUS=500;X-TITLE=Forsyth Park:geo:-81.0962384,32.0675356
END:VEVENT
END:VCALENDAR