BEGIN:VCALENDAR
VERSION:2.0
PRODID:-//Street Artem - ECPv6.15.20//NONSGML v1.0//EN
CALSCALE:GREGORIAN
METHOD:PUBLISH
X-WR-CALNAME:Street Artem
X-ORIGINAL-URL:https://streetartem.com
X-WR-CALDESC:Events for Street Artem
REFRESH-INTERVAL;VALUE=DURATION:PT1H
X-Robots-Tag:noindex
X-PUBLISHED-TTL:PT1H
BEGIN:VTIMEZONE
TZID:America/New_York
BEGIN:DAYLIGHT
TZOFFSETFROM:-0500
TZOFFSETTO:-0400
TZNAME:EDT
DTSTART:20240310T070000
END:DAYLIGHT
BEGIN:STANDARD
TZOFFSETFROM:-0400
TZOFFSETTO:-0500
TZNAME:EST
DTSTART:20241103T060000
END:STANDARD
BEGIN:DAYLIGHT
TZOFFSETFROM:-0500
TZOFFSETTO:-0400
TZNAME:EDT
DTSTART:20250309T070000
END:DAYLIGHT
BEGIN:STANDARD
TZOFFSETFROM:-0400
TZOFFSETTO:-0500
TZNAME:EST
DTSTART:20251102T060000
END:STANDARD
BEGIN:DAYLIGHT
TZOFFSETFROM:-0500
TZOFFSETTO:-0400
TZNAME:EDT
DTSTART:20260308T070000
END:DAYLIGHT
BEGIN:STANDARD
TZOFFSETFROM:-0400
TZOFFSETTO:-0500
TZNAME:EST
DTSTART:20261101T060000
END:STANDARD
END:VTIMEZONE
BEGIN:VEVENT
DTSTART;VALUE=DATE:20250904
DTEND;VALUE=DATE:20250908
DTSTAMP:20260424T153849
CREATED:20241229T234647Z
LAST-MODIFIED:20250712T012912Z
UID:17341-1756944000-1757289599@streetartem.com
SUMMARY:TULIP CITY WALLS MURAL FESTIVAL
DESCRIPTION:A sneak peek into the festival schedule!\nSept 4 A public artists’ reception and panel discussion\nSept 5 Mural artists start painting\, food trucks\, music stage with DJ/band\nSept 6 Murals\, live music and food\, all-ages activities\nSept 7 Cars and Coffee
URL:https://streetartem.com/event/tulip-city-walls-mural-festival/
LOCATION:Tulip City Walls\, 27 W 16th Street\, Holland\, MI\, 49423\, United States
CATEGORIES:Street Art Festival
ATTACH;FMTTYPE=image/png:https://streetartem.com/wp-content/uploads/2024/12/tulip-city-walls.png
GEO:42.7832529;-86.1084738
X-APPLE-STRUCTURED-LOCATION;VALUE=URI;X-ADDRESS=Tulip City Walls 27 W 16th Street Holland MI 49423 United States;X-APPLE-RADIUS=500;X-TITLE=27 W 16th Street:geo:-86.1084738,42.7832529
END:VEVENT
END:VCALENDAR